BEGIN:VCALENDAR
VERSION:2.0
PRODID:-//LiftFund - ECPv6.14.2//NONSGML v1.0//EN
CALSCALE:GREGORIAN
METHOD:PUBLISH
X-WR-CALNAME:LiftFund
X-ORIGINAL-URL:https://liftlearn.com
X-WR-CALDESC:Events for LiftFund
REFRESH-INTERVAL;VALUE=DURATION:PT1H
X-Robots-Tag:noindex
X-PUBLISHED-TTL:PT1H
BEGIN:VTIMEZONE
TZID:America/Chicago
BEGIN:DAYLIGHT
TZOFFSETFROM:-0600
TZOFFSETTO:-0500
TZNAME:CDT
DTSTART:20230312T080000
END:DAYLIGHT
BEGIN:STANDARD
TZOFFSETFROM:-0500
TZOFFSETTO:-0600
TZNAME:CST
DTSTART:20231105T070000
END:STANDARD
END:VTIMEZONE
BEGIN:VEVENT
DTSTART;TZID=America/Chicago:20230329T180000
DTEND;TZID=America/Chicago:20230329T193000
DTSTAMP:20260420T041233
CREATED:20230322T142320Z
LAST-MODIFIED:20230322T142320Z
UID:13826-1680112800-1680118200@liftlearn.com
SUMMARY:Intellectual Property for Small Business Owners and Inventors
DESCRIPTION:In this informative and interactive webinar\, intellectual property (IP) attorneys will present the basics of IP—i.e.\, patents\, trademarks\, copyrights\, and trade secrets—and answer questions about IP issues that arise for small business owners and inventors. Enter our virtual breakout rooms for a deeper dive. \nLearn how to protect your IP and discuss the common IP issues encountered by small business owners and inventors
URL:https://liftlearn.com/event/intellectual-property-for-small-business-owners-and-inventors/
LOCATION:Online Event / Webinar\, Online\, Dallas\, TX 75247\, Dallas\, TX\, 75247\, US
ATTACH;FMTTYPE=image/png:https://liftlearn.com/wp-content/uploads/2023/03/UTAVBOC-Webinar.png
ORGANIZER;CN="UTA Veterans Business Outreach Center":MAILTO:utavboc@uta.edu
END:VEVENT
END:VCALENDAR